BEGIN:VCALENDAR
VERSION:2.0
PRODID:-//Squarespace Inc/Squarespace 6//v6//EN
BEGIN:VEVENT
UID:5e2fcc660f08f8258fed2fa8@squarespace.com
DTSTAMP:20200128T234100Z
DTSTART:20200129T223000Z
DTEND:20200130T003000Z
SUMMARY:Business at Sunset
GEO:-23.697016;133.891271
LOCATION:Club Eastside\, 28 Undoolya Rd\, Alice Springs NT 0870
END:VEVENT
END:VCALENDAR
