BEGIN:VCALENDAR
VERSION:2.0
PRODID:-//Squarespace Inc/Squarespace 6//v6//EN
BEGIN:VEVENT
UID:5dca5425ce46be03a1a6d6e3@squarespace.com
DTSTAMP:20191125T023740Z
DTSTART:20191127T190000Z
DTEND:20191127T230000Z
SUMMARY:Business Environment Expo 2019
GEO:-33.811832;151.025147
LOCATION:Western Sydney University Parramatta Campus
END:VEVENT
END:VCALENDAR
