BEGIN:VCALENDAR
VERSION:2.0
PRODID:-//Squarespace Inc/Squarespace 6//v6//EN
BEGIN:VEVENT
UID:5d7b39d1e1468f750f54b1bd@squarespace.com
DTSTAMP:20190918T060828Z
DTSTART:20190923T213000Z
DTEND:20190923T233000Z
SUMMARY:Chamber of Commerce | Energy Efficiency Seminar
GEO:-23.702999;133.886497
LOCATION:Mecure\, 34 Stott Terrace\, Alice Springs\, NT\, 0870\, Australia
END:VEVENT
END:VCALENDAR
