BEGIN:VCALENDAR
VERSION:2.0
PRODID:-//Squarespace Inc/Squarespace 6//v6//EN
BEGIN:VEVENT
UID:5d7eef69de5a2c25a54f7f06@squarespace.com
DTSTAMP:20190918T055942Z
DTSTART:20190918T170000Z
DTEND:20190918T233000Z
SUMMARY:Western Sydney Science Careers Conference &amp\; Expo
GEO:-33.815953;151.005648
LOCATION:Western Sydney University\, 169 Macquarie Street\, Parramatta\, NS
 W\, 2150\, Australia
END:VEVENT
END:VCALENDAR
