BEGIN:VCALENDAR
VERSION:2.0
PRODID:-//Squarespace Inc/Squarespace 6//v6//EN
BEGIN:VEVENT
UID:5d7b3667c2c49d24c0b0ed4f@squarespace.com
DTSTAMP:20191113T235253Z
DTSTART:20191114T140000Z
DTEND:20191114T230000Z
SUMMARY:National Renewables in Agriculture Conference and Expo
GEO:-35.12997;147.410766
LOCATION:The Range Function Centre\, 308 Copland Street\, East Wagga Wagga\
 , NSW\, 2650\, Australia
END:VEVENT
END:VCALENDAR
