BEGIN:VCALENDAR
VERSION:2.0
PRODID:-//Squarespace Inc/Squarespace 6//v6//EN
BEGIN:VEVENT
UID:5d82eac4f9bf4425734a3921@squarespace.com
DTSTAMP:20191008T061824Z
DTSTART:20191010T130000Z
DTEND:20191010T220000Z
SUMMARY:innoSHARE UNIversity 2019 
GEO:52.241683;21.028348
LOCATION:Centrum Nauki Kopernik\, 20 Wybrzeże Kościuszkowskie\, Warszawa\, 
 mazowieckie\, 00-390\, Poland
END:VEVENT
END:VCALENDAR
